BEGIN:VCALENDAR
VERSION:2.0
PRODID:-//AIA Triangle - ECPv6.15.20//NONSGML v1.0//EN
CALSCALE:GREGORIAN
METHOD:PUBLISH
X-ORIGINAL-URL:https://aiatriangle.org
X-WR-CALDESC:Events for AIA Triangle
REFRESH-INTERVAL;VALUE=DURATION:PT1H
X-Robots-Tag:noindex
X-PUBLISHED-TTL:PT1H
BEGIN:VTIMEZONE
TZID:America/New_York
BEGIN:DAYLIGHT
TZOFFSETFROM:-0500
TZOFFSETTO:-0400
TZNAME:EDT
DTSTART:20220313T070000
END:DAYLIGHT
BEGIN:STANDARD
TZOFFSETFROM:-0400
TZOFFSETTO:-0500
TZNAME:EST
DTSTART:20221106T060000
END:STANDARD
BEGIN:DAYLIGHT
TZOFFSETFROM:-0500
TZOFFSETTO:-0400
TZNAME:EDT
DTSTART:20230312T070000
END:DAYLIGHT
BEGIN:STANDARD
TZOFFSETFROM:-0400
TZOFFSETTO:-0500
TZNAME:EST
DTSTART:20231105T060000
END:STANDARD
BEGIN:DAYLIGHT
TZOFFSETFROM:-0500
TZOFFSETTO:-0400
TZNAME:EDT
DTSTART:20240310T070000
END:DAYLIGHT
BEGIN:STANDARD
TZOFFSETFROM:-0400
TZOFFSETTO:-0500
TZNAME:EST
DTSTART:20241103T060000
END:STANDARD
END:VTIMEZONE
BEGIN:VEVENT
DTSTART;TZID=America/New_York:20231109T180000
DTEND;TZID=America/New_York:20231109T190000
DTSTAMP:20260423T101930
CREATED:20230918T152858Z
LAST-MODIFIED:20230918T152858Z
UID:10000515-1699552800-1699556400@aiatriangle.org
SUMMARY:Joint Lecture Series - Shawn Protz
DESCRIPTION:Fall 2023 Joint Lecture Series \nShawn Protz\, NC State University College of Design \nArchitecture of Air \nThe Gregg Museum of Art and Design \nThursday\, November 9 | 6:00 PM\nIn-Person or Virtual \nFOR MORE DETAILS OR TO REGISTER\, CLICK HERE \nZOOM LINK \nShawn Protz is an assistant professor of architecture at the NC State College of Design. Before arriving at NC State\, he taught undergraduate and graduate courses at The School of Architecture (at Taliesin)\, the University of Arizona and Auburn University. Protz has explored a range of subjects spanning from structural and environmental systems to digital representation and fabrication; past classes have covered design communication\, building information modeling\, climatic design\, housing\, inflatable architecture\, and tectonics. At the NC State School of Architecture\, he focuses on building a vibrant digital culture and developing coursework and research projects exploring emerging digital systems and materials. Presently\, he is pursuing techniques and applications for 3D-printed ceramics.
URL:https://aiatriangle.org/event/joint-lecture-series-shawn-protz/
LOCATION:The Gregg Museum of Art and Design\, 1903 Hillsborough St.\, Raleigh\, 27695\, United States
CATEGORIES:Joint Lecture Series
END:VEVENT
END:VCALENDAR