BEGIN:VCALENDAR
VERSION:2.0
PRODID:-//AIA Triangle - ECPv6.15.20//NONSGML v1.0//EN
CALSCALE:GREGORIAN
METHOD:PUBLISH
X-WR-CALNAME:AIA Triangle
X-ORIGINAL-URL:https://aiatriangle.org
X-WR-CALDESC:Events for AIA Triangle
REFRESH-INTERVAL;VALUE=DURATION:PT1H
X-Robots-Tag:noindex
X-PUBLISHED-TTL:PT1H
BEGIN:VTIMEZONE
TZID:America/New_York
BEGIN:DAYLIGHT
TZOFFSETFROM:-0500
TZOFFSETTO:-0400
TZNAME:EDT
DTSTART:20230312T070000
END:DAYLIGHT
BEGIN:STANDARD
TZOFFSETFROM:-0400
TZOFFSETTO:-0500
TZNAME:EST
DTSTART:20231105T060000
END:STANDARD
BEGIN:DAYLIGHT
TZOFFSETFROM:-0500
TZOFFSETTO:-0400
TZNAME:EDT
DTSTART:20240310T070000
END:DAYLIGHT
BEGIN:STANDARD
TZOFFSETFROM:-0400
TZOFFSETTO:-0500
TZNAME:EST
DTSTART:20241103T060000
END:STANDARD
BEGIN:DAYLIGHT
TZOFFSETFROM:-0500
TZOFFSETTO:-0400
TZNAME:EDT
DTSTART:20250309T070000
END:DAYLIGHT
BEGIN:STANDARD
TZOFFSETFROM:-0400
TZOFFSETTO:-0500
TZNAME:EST
DTSTART:20251102T060000
END:STANDARD
END:VTIMEZONE
BEGIN:VEVENT
DTSTART;TZID=America/New_York:20240118T173000
DTEND;TZID=America/New_York:20240118T190000
DTSTAMP:20260423T050256
CREATED:20231221T182548Z
LAST-MODIFIED:20240108T194610Z
UID:10000532-1705599000-1705604400@aiatriangle.org
SUMMARY:Women in Architecture Networking Social with Gensler
DESCRIPTION:  \n\n\n\nAIA Triangle Women in Architecture\n\n\nNetworking Social with Gensler\n\n\n\n\n\nThursday\, January 18\, 2024\n\n\n5:30 – 7:00 PM\n\n\nTower 2 Bloc(83)\n\n\nSecond Floor Terrace | 621 Hillsborough St. | Raleigh NC\, 27603\n\n\n\n\n\n\n\n\nWIA is hosting a Networking Social to kick off 2024! Join us on Thursday\, January 18 from 5:30 – 7:00 p.m. This event is free but RSVPs are requested below. Thank you to Gensler for hosting WIA for this event!
URL:https://aiatriangle.org/event/women-in-architecture-networking-social-gensler/
LOCATION:Tower2 Bloc(83)\, 621 Hillsborough St - 2nd Flr Terrace\, Raleigh\, NC\, 27603
CATEGORIES:Women in Architecture
END:VEVENT
END:VCALENDAR