BEGIN:VCALENDAR
VERSION:2.0
PRODID:-//AIA Triangle - ECPv6.15.20//NONSGML v1.0//EN
CALSCALE:GREGORIAN
METHOD:PUBLISH
X-ORIGINAL-URL:https://aiatriangle.org
X-WR-CALDESC:Events for AIA Triangle
REFRESH-INTERVAL;VALUE=DURATION:PT1H
X-Robots-Tag:noindex
X-PUBLISHED-TTL:PT1H
BEGIN:VTIMEZONE
TZID:America/New_York
BEGIN:DAYLIGHT
TZOFFSETFROM:-0500
TZOFFSETTO:-0400
TZNAME:EDT
DTSTART:20240310T070000
END:DAYLIGHT
BEGIN:STANDARD
TZOFFSETFROM:-0400
TZOFFSETTO:-0500
TZNAME:EST
DTSTART:20241103T060000
END:STANDARD
BEGIN:DAYLIGHT
TZOFFSETFROM:-0500
TZOFFSETTO:-0400
TZNAME:EDT
DTSTART:20250309T070000
END:DAYLIGHT
BEGIN:STANDARD
TZOFFSETFROM:-0400
TZOFFSETTO:-0500
TZNAME:EST
DTSTART:20251102T060000
END:STANDARD
BEGIN:DAYLIGHT
TZOFFSETFROM:-0500
TZOFFSETTO:-0400
TZNAME:EDT
DTSTART:20260308T070000
END:DAYLIGHT
BEGIN:STANDARD
TZOFFSETFROM:-0400
TZOFFSETTO:-0500
TZNAME:EST
DTSTART:20261101T060000
END:STANDARD
END:VTIMEZONE
BEGIN:VEVENT
DTSTART;TZID=America/New_York:20250409T080000
DTEND;TZID=America/New_York:20250409T170000
DTSTAMP:20260423T074429
CREATED:20250213T190250Z
LAST-MODIFIED:20250402T124202Z
UID:10000615-1744185600-1744218000@aiatriangle.org
SUMMARY:Multi Family Accessibility (Earn 8 HSW)
DESCRIPTION:MULTI FAMILY ACCESSIBILITY (8 AIA LU/HSW)\n\n\nWednesday\, April 9\, 2025| 8:00 AM – 5:00 PM\n\n\nMAXIMUM CAPACITY IS 125 ATTENDEES \n\n\n(Registration Deadline: Friday\, April 4 @ 5:00 PM)\n\n\nIn-person only | Lunch will be provided (Noon – 1:00 PM)\n\n\nWake Tech South Campus\, Building L Conference Center\n\n\n9101 Fayetteville Rd\, Raleigh 27603\n(ample free parking is available)\n8 LU|HSW\n\n\n\n\nAIA Members/AIA Triangle Annual Partners: $135\nAIA Members with ‘Associate AIA’ designation: $75\nNon-members: $195\nGroup pricing of six or more members: $114.75 each (include names of attendees)\nGroup pricing of six or more nonmembers: $175.50 each (include names of attendees)\n\n\nAGENDA\nUnderstanding the Differences:  The New North Carolina Building Code & Finally A117.1 – 2017 as they apply to Residential Occupancies!\nTara Barthelmess\, North Carolina Office of State Fire Marshal\nDom Marinelli\, Accessibility Services (United Spinal Association) \nLegal Trends in Accessibility\nTerry Kitay\, Baker Donelson \nNorth Carolina Housing Finance Agency’s Accessibility Requirements\nRuss Griffin\, NCHFA\nToby Sutherland\, NCHFA \nDepartment of Justice Inspection Protocols\nGina Hillberry\, Cohen Hillberry Architects\nLee Vandecarr\, Pendergraph Properties \nTypical Issues Identified During Inspections\nRegina Trantham\, HUD (Contract Inspector) \nCE:  8 hours HSW \nREFUND POLICY\nRefunds must be requested in writing (by email) 5 business days prior to the program date. AIA Triangle withholds the right to deny or approve any refund based on condition or circumstance. \n\nRequirements that impact multi-family housing accessibility\, as found in the Fair Housing Accessibility Guidelines\, the 2018 NC Building Code and its Accessibility Standard A117.1 – 2009\, the 2010 ADA Standards and new safe harbor standards approved by the US Department of Housing and Urban Development (HUD) for compliance with the Federal Fair Housing Act Accessibility Guidelines. \n\nUpon completion of this program\, participants will review relevant areas from the 2010 ADA Standards for Accessible Design will also be reviewed. Participants will examine problem application areas in applying these requirements to public and common-use areas including exterior amenities\, exterior accessible routes\, accessible parking\, and interior features (mail rooms\, fitness centers\, community rooms\, kitchens\, etc.)\nParticipants will understand the differences of the new North Carolina Building Code and its impact on Residential Occupancies.\nParticipants will recognize requirements within residential units with focus on the different requirements applicable to Type A and Type B Units including unit entries\, door thresholds\, kitchen clearances\, appliances\, bathroom clearances\, fixtures\, patios/balconies\, and operable parts within the dwelling unit.\nParticipants will understand how Section 504 of the Rehabilitation Act of 1973 and the Uniform Federal Accessibility Standards (UFAS) impact publicly funded projects including the North Carolina Housing Finance Agency. Participants will further identify and distinguish settlements and court cases along with common issues on accessibility plan reviews.\nParticipants will understand the differences between A117.1 – 2009 and A117.1 – 2017 (the updated Accessibility Standard being referenced in jurisdictions referencing the 2021 edition of the International Building Code (IBC)\nParticipants will understand Department of Justice’s Accessibility Inspection Protocol (DOJ is the Federal Agency that enforces the Federal Fair Housing Act Accessibility Guidelines)\n\n\nDominic Martinelli\, Vice President\, Accessibility Services \n\nDominic Marinelli has been with the United Spinal Association for over 30 years. Mr. Marinelli provides continuing education to members of the American Institute of Architects (AIA) and the Society of American Registered Architects (SARA). He is a Contract Instructor for the International Codes Council (ICC) and an Adjunct Faculty Member at Pratt’s Center for Continuing & Professional Studies in New York City.\n\n\n\n  \nMr. Marinelli is a certified Accessibility Specialist/Plans Examiner by the International Code Council and serves on various committees including American National Standard Institute Residential Committee which he serves as Chair. He also represented the United Spinal Association on the US Access Board’s Emergency Transportable Housing Advisory Committee.\n  \nMr. Marinelli holds a Master of Science from the State University of New York at Buffalo. He is certified in code enforcement by the New York State Department of State Codes Division and as an Accessibility Specialist/Plans Examiner by the International Codes Council (ICC).
URL:https://aiatriangle.org/event/multi-family-accessibility-earn-8-hsw-2024-copy/
LOCATION:Wake Technical Community College\, South Campus Building L (SL)\, Second Floor\, 9101 Fayetteville Road\, Raleigh\, NC\, 27603\, United States
CATEGORIES:CE Program
ORGANIZER;CN="AIA Triangle":MAILTO:info@aiatriangle.org
END:VEVENT
END:VCALENDAR