BEGIN:VCALENDAR
VERSION:2.0
PRODID:-//AIA Triangle - ECPv6.15.20//NONSGML v1.0//EN
CALSCALE:GREGORIAN
METHOD:PUBLISH
X-WR-CALNAME:AIA Triangle
X-ORIGINAL-URL:https://aiatriangle.org
X-WR-CALDESC:Events for AIA Triangle
REFRESH-INTERVAL;VALUE=DURATION:PT1H
X-Robots-Tag:noindex
X-PUBLISHED-TTL:PT1H
BEGIN:VTIMEZONE
TZID:America/New_York
BEGIN:DAYLIGHT
TZOFFSETFROM:-0500
TZOFFSETTO:-0400
TZNAME:EDT
DTSTART:20210314T070000
END:DAYLIGHT
BEGIN:STANDARD
TZOFFSETFROM:-0400
TZOFFSETTO:-0500
TZNAME:EST
DTSTART:20211107T060000
END:STANDARD
BEGIN:DAYLIGHT
TZOFFSETFROM:-0500
TZOFFSETTO:-0400
TZNAME:EDT
DTSTART:20220313T070000
END:DAYLIGHT
BEGIN:STANDARD
TZOFFSETFROM:-0400
TZOFFSETTO:-0500
TZNAME:EST
DTSTART:20221106T060000
END:STANDARD
BEGIN:DAYLIGHT
TZOFFSETFROM:-0500
TZOFFSETTO:-0400
TZNAME:EDT
DTSTART:20230312T070000
END:DAYLIGHT
BEGIN:STANDARD
TZOFFSETFROM:-0400
TZOFFSETTO:-0500
TZNAME:EST
DTSTART:20231105T060000
END:STANDARD
END:VTIMEZONE
BEGIN:VEVENT
DTSTART;TZID=America/New_York:20220414T170000
DTEND;TZID=America/New_York:20220414T180000
DTSTAMP:20260423T090038
CREATED:20220412T153914Z
LAST-MODIFIED:20220412T173123Z
UID:10000371-1649955600-1649959200@aiatriangle.org
SUMMARY:EP/YAF Pizza and Pros at Wake Tech Community College
DESCRIPTION:CALLING ALL ARCHITECTS AND EMERGING PROFESSIONALS \nEP/YAF PIZZA + PROFESSIONAL AT WAKE TECH \n \nApril 14\, 2022 | 5:00 PM – 6:00 PM \nWake Technical Community College\, South Campus \nEngineering Technologies Building – Building E \n9101 Fayetteville Road\, | Raleigh\, NC  \nParking in LOT E \nStudents want to hear your career advice\, project feedback\, and portfolio reviews. Students value your professional opinions on their projects and seek career advice. Join us for some pizza and casual conversation with students.  \nProfessionals RSVP by 3:00 pm on Thursday\, April 14th \nQuestions?  Email Max Hodge
URL:https://aiatriangle.org/event/ep-yaf-pizza-and-pros-at-wake-tech-community-college/
LOCATION:Wake Technical Community College\, 9101 Fayetteville Road\, Engineering Tech Building E\, Raleigh\, United States
CATEGORIES:YAF
ORGANIZER;CN="Maxwell Hodge":MAILTO:davidmaxhodge@gmail.com
END:VEVENT
END:VCALENDAR