BEGIN:VCALENDAR
VERSION:2.0
PRODID:-//AIA Triangle - ECPv6.15.20//NONSGML v1.0//EN
CALSCALE:GREGORIAN
METHOD:PUBLISH
X-ORIGINAL-URL:https://aiatriangle.org
X-WR-CALDESC:Events for AIA Triangle
REFRESH-INTERVAL;VALUE=DURATION:PT1H
X-Robots-Tag:noindex
X-PUBLISHED-TTL:PT1H
BEGIN:VTIMEZONE
TZID:America/New_York
BEGIN:DAYLIGHT
TZOFFSETFROM:-0500
TZOFFSETTO:-0400
TZNAME:EDT
DTSTART:20240310T070000
END:DAYLIGHT
BEGIN:STANDARD
TZOFFSETFROM:-0400
TZOFFSETTO:-0500
TZNAME:EST
DTSTART:20241103T060000
END:STANDARD
BEGIN:DAYLIGHT
TZOFFSETFROM:-0500
TZOFFSETTO:-0400
TZNAME:EDT
DTSTART:20250309T070000
END:DAYLIGHT
BEGIN:STANDARD
TZOFFSETFROM:-0400
TZOFFSETTO:-0500
TZNAME:EST
DTSTART:20251102T060000
END:STANDARD
BEGIN:DAYLIGHT
TZOFFSETFROM:-0500
TZOFFSETTO:-0400
TZNAME:EDT
DTSTART:20260308T070000
END:DAYLIGHT
BEGIN:STANDARD
TZOFFSETFROM:-0400
TZOFFSETTO:-0500
TZNAME:EST
DTSTART:20261101T060000
END:STANDARD
END:VTIMEZONE
BEGIN:VEVENT
DTSTART;TZID=America/New_York:20250918T163000
DTEND;TZID=America/New_York:20250918T173000
DTSTAMP:20260423T111250
CREATED:20250717T184752Z
LAST-MODIFIED:20250909T192144Z
UID:10000648-1758213000-1758216600@aiatriangle.org
SUMMARY:AIAT SFX
DESCRIPTION:Designing Succession: A Roundtable on Legacy\, Leadership\, and Longevity \nJoin us for our 3rd event of the year\, a conversation with our fellow small firm withArchitecture. \nFeatured Guest Speaker: Ellen Weinstein\, AIA\, Partner\, withArchitecture; Andy Goolsby\, AIA\, Partner\, withArchitecture; and Mike Cincala\, AIA\, Partner\, withArchitecture \nFrom Weinstein Friedlein Architects to withArchitects\, the partners will share their experience about their succession planning story. They will offer insights about their framework and leadership transition strategies \nSocial hour starts: 4.30 PM \nRoundtable starts at: 5.00PM \n1 LU/HSW available for AIA members \n \n 
URL:https://aiatriangle.org/event/aiat-sfx-2/
LOCATION:withArchitecture’s Office\, 609 William Vickers Ave\, Durham\, 27701
END:VEVENT
END:VCALENDAR