BEGIN:VCALENDAR
VERSION:2.0
PRODID:-//AIA Triangle - ECPv6.15.20//NONSGML v1.0//EN
CALSCALE:GREGORIAN
METHOD:PUBLISH
X-WR-CALNAME:AIA Triangle
X-ORIGINAL-URL:https://aiatriangle.org
X-WR-CALDESC:Events for AIA Triangle
REFRESH-INTERVAL;VALUE=DURATION:PT1H
X-Robots-Tag:noindex
X-PUBLISHED-TTL:PT1H
BEGIN:VTIMEZONE
TZID:America/New_York
BEGIN:DAYLIGHT
TZOFFSETFROM:-0500
TZOFFSETTO:-0400
TZNAME:EDT
DTSTART:20210314T070000
END:DAYLIGHT
BEGIN:STANDARD
TZOFFSETFROM:-0400
TZOFFSETTO:-0500
TZNAME:EST
DTSTART:20211107T060000
END:STANDARD
BEGIN:DAYLIGHT
TZOFFSETFROM:-0500
TZOFFSETTO:-0400
TZNAME:EDT
DTSTART:20220313T070000
END:DAYLIGHT
BEGIN:STANDARD
TZOFFSETFROM:-0400
TZOFFSETTO:-0500
TZNAME:EST
DTSTART:20221106T060000
END:STANDARD
BEGIN:DAYLIGHT
TZOFFSETFROM:-0500
TZOFFSETTO:-0400
TZNAME:EDT
DTSTART:20230312T070000
END:DAYLIGHT
BEGIN:STANDARD
TZOFFSETFROM:-0400
TZOFFSETTO:-0500
TZNAME:EST
DTSTART:20231105T060000
END:STANDARD
END:VTIMEZONE
BEGIN:VEVENT
DTSTART;TZID=America/New_York:20220727T183000
DTEND;TZID=America/New_York:20220727T190000
DTSTAMP:20260424T232325
CREATED:20211221T194641Z
LAST-MODIFIED:20220728T125718Z
UID:10000332-1658946600-1658948400@aiatriangle.org
SUMMARY:2022 ARE/AXP Study Group
DESCRIPTION:All are welcome to participate! \nCheck-in weekly to the Zoom meetings on Wednesdays at 6:30 PM \nJOIN US ON TEAMS HERE \nConnect on the Young and Aspiring Architects’ Facebook Page \nQuestions?  \nContact Max Hodge for more information
URL:https://aiatriangle.org/event/2022-are-axp-study-group/2022-07-27/
LOCATION:Online Meeting
CATEGORIES:YAF
ORGANIZER;CN="Maxwell Hodge":MAILTO:davidmaxhodge@gmail.com
END:VEVENT
BEGIN:VEVENT
DTSTART;TZID=America/New_York:20220720T183000
DTEND;TZID=America/New_York:20220720T190000
DTSTAMP:20260424T232325
CREATED:20211221T194641Z
LAST-MODIFIED:20220728T125718Z
UID:10000331-1658341800-1658343600@aiatriangle.org
SUMMARY:2022 ARE/AXP Study Group
DESCRIPTION:All are welcome to participate! \nCheck-in weekly to the Zoom meetings on Wednesdays at 6:30 PM \nJOIN US ON TEAMS HERE \nConnect on the Young and Aspiring Architects’ Facebook Page \nQuestions?  \nContact Max Hodge for more information
URL:https://aiatriangle.org/event/2022-are-axp-study-group/2022-07-20/
LOCATION:Online Meeting
CATEGORIES:YAF
ORGANIZER;CN="Maxwell Hodge":MAILTO:davidmaxhodge@gmail.com
END:VEVENT
BEGIN:VEVENT
DTSTART;TZID=America/New_York:20220713T183000
DTEND;TZID=America/New_York:20220713T190000
DTSTAMP:20260424T232325
CREATED:20211221T194641Z
LAST-MODIFIED:20220728T125718Z
UID:10000330-1657737000-1657738800@aiatriangle.org
SUMMARY:2022 ARE/AXP Study Group
DESCRIPTION:All are welcome to participate! \nCheck-in weekly to the Zoom meetings on Wednesdays at 6:30 PM \nJOIN US ON TEAMS HERE \nConnect on the Young and Aspiring Architects’ Facebook Page \nQuestions?  \nContact Max Hodge for more information
URL:https://aiatriangle.org/event/2022-are-axp-study-group/2022-07-13/
LOCATION:Online Meeting
CATEGORIES:YAF
ORGANIZER;CN="Maxwell Hodge":MAILTO:davidmaxhodge@gmail.com
END:VEVENT
BEGIN:VEVENT
DTSTART;TZID=America/New_York:20220706T183000
DTEND;TZID=America/New_York:20220706T190000
DTSTAMP:20260424T232325
CREATED:20211221T194641Z
LAST-MODIFIED:20220728T125718Z
UID:10000329-1657132200-1657134000@aiatriangle.org
SUMMARY:2022 ARE/AXP Study Group
DESCRIPTION:All are welcome to participate! \nCheck-in weekly to the Zoom meetings on Wednesdays at 6:30 PM \nJOIN US ON TEAMS HERE \nConnect on the Young and Aspiring Architects’ Facebook Page \nQuestions?  \nContact Max Hodge for more information
URL:https://aiatriangle.org/event/2022-are-axp-study-group/2022-07-06/
LOCATION:Online Meeting
CATEGORIES:YAF
ORGANIZER;CN="Maxwell Hodge":MAILTO:davidmaxhodge@gmail.com
END:VEVENT
BEGIN:VEVENT
DTSTART;TZID=America/New_York:20220629T183000
DTEND;TZID=America/New_York:20220629T190000
DTSTAMP:20260424T232325
CREATED:20211221T194641Z
LAST-MODIFIED:20220728T125718Z
UID:10000328-1656527400-1656529200@aiatriangle.org
SUMMARY:2022 ARE/AXP Study Group
DESCRIPTION:All are welcome to participate! \nCheck-in weekly to the Zoom meetings on Wednesdays at 6:30 PM \nJOIN US ON TEAMS HERE \nConnect on the Young and Aspiring Architects’ Facebook Page \nQuestions?  \nContact Max Hodge for more information
URL:https://aiatriangle.org/event/2022-are-axp-study-group/2022-06-29/
LOCATION:Online Meeting
CATEGORIES:YAF
ORGANIZER;CN="Maxwell Hodge":MAILTO:davidmaxhodge@gmail.com
END:VEVENT
BEGIN:VEVENT
DTSTART;TZID=America/New_York:20220622T183000
DTEND;TZID=America/New_York:20220622T190000
DTSTAMP:20260424T232325
CREATED:20211221T194641Z
LAST-MODIFIED:20220728T125718Z
UID:10000327-1655922600-1655924400@aiatriangle.org
SUMMARY:2022 ARE/AXP Study Group
DESCRIPTION:All are welcome to participate! \nCheck-in weekly to the Zoom meetings on Wednesdays at 6:30 PM \nJOIN US ON TEAMS HERE \nConnect on the Young and Aspiring Architects’ Facebook Page \nQuestions?  \nContact Max Hodge for more information
URL:https://aiatriangle.org/event/2022-are-axp-study-group/2022-06-22/
LOCATION:Online Meeting
CATEGORIES:YAF
ORGANIZER;CN="Maxwell Hodge":MAILTO:davidmaxhodge@gmail.com
END:VEVENT
BEGIN:VEVENT
DTSTART;TZID=America/New_York:20220620T193000
DTEND;TZID=America/New_York:20220620T203000
DTSTAMP:20260424T232325
CREATED:20220426T173302Z
LAST-MODIFIED:20220426T195404Z
UID:10000383-1655753400-1655757000@aiatriangle.org
SUMMARY:EP/YAF ARE 5.0 PDD Workshop
DESCRIPTION:EP/YAF ARE 5.0 PDD WORKSHOP \nOnline Meeting\n\nMay 9th – June 20th\n 7:30 PM\n\nJust starting your exams and not sure where to start? Having a hard time getting the PASS or keeping yourself motivated to study? Feeling overwhelmed by all the material?  Get your study on\, grab some fellow candidates\, and show up for a weekly study schedule\, riveting discussions\, and practice questions that will keep you going toward the finish line. The virtual workshop will run from May 9th through June 20th through Teams meeting.\n\nWant to join the workshop? \nEmail for more information and to receive weekly Teams meeting link\nEmail Sarah Lower or Colin McCarville
URL:https://aiatriangle.org/event/ep-yaf-are-5-0-pdd-workshop-5/
LOCATION:Online Meeting
CATEGORIES:YAF
ORGANIZER;CN="Sarah Lower":MAILTO:sarah.d.lower@gmail.com
END:VEVENT
BEGIN:VEVENT
DTSTART;TZID=America/New_York:20220615T183000
DTEND;TZID=America/New_York:20220615T190000
DTSTAMP:20260424T232325
CREATED:20211221T194641Z
LAST-MODIFIED:20220728T125718Z
UID:10000326-1655317800-1655319600@aiatriangle.org
SUMMARY:2022 ARE/AXP Study Group
DESCRIPTION:All are welcome to participate! \nCheck-in weekly to the Zoom meetings on Wednesdays at 6:30 PM \nJOIN US ON TEAMS HERE \nConnect on the Young and Aspiring Architects’ Facebook Page \nQuestions?  \nContact Max Hodge for more information
URL:https://aiatriangle.org/event/2022-are-axp-study-group/2022-06-15/
LOCATION:Online Meeting
CATEGORIES:YAF
ORGANIZER;CN="Maxwell Hodge":MAILTO:davidmaxhodge@gmail.com
END:VEVENT
BEGIN:VEVENT
DTSTART;TZID=America/New_York:20220613T193000
DTEND;TZID=America/New_York:20220613T203000
DTSTAMP:20260424T232325
CREATED:20220426T173020Z
LAST-MODIFIED:20220426T195509Z
UID:10000385-1655148600-1655152200@aiatriangle.org
SUMMARY:EP/YAF ARE 5.0 PDD Workshop
DESCRIPTION:EP/YAF ARE 5.0 PDD WORKSHOP \nOnline Meeting\n\nMay 9th – June 20th\n 7:30 PM\n\nJust starting your exams and not sure where to start? Having a hard time getting the PASS or keeping yourself motivated to study? Feeling overwhelmed by all the material?  Get your study on\, grab some fellow candidates\, and show up for a weekly study schedule\, riveting discussions\, and practice questions that will keep you going toward the finish line. The virtual workshop will run from May 9th through June 20th through Teams meeting.\n\nWant to join the workshop? \nEmail for more information and to receive weekly Teams meeting link\n\n\nEmail Sarah Lower or Colin McCarville
URL:https://aiatriangle.org/event/ep-yaf-are-5-0-pdd-workshop-4/
LOCATION:Online Meeting
CATEGORIES:YAF
ORGANIZER;CN="Sarah Lower":MAILTO:sarah.d.lower@gmail.com
END:VEVENT
BEGIN:VEVENT
DTSTART;TZID=America/New_York:20220608T183000
DTEND;TZID=America/New_York:20220608T190000
DTSTAMP:20260424T232325
CREATED:20211221T194641Z
LAST-MODIFIED:20220728T125718Z
UID:10000325-1654713000-1654714800@aiatriangle.org
SUMMARY:2022 ARE/AXP Study Group
DESCRIPTION:All are welcome to participate! \nCheck-in weekly to the Zoom meetings on Wednesdays at 6:30 PM \nJOIN US ON TEAMS HERE \nConnect on the Young and Aspiring Architects’ Facebook Page \nQuestions?  \nContact Max Hodge for more information
URL:https://aiatriangle.org/event/2022-are-axp-study-group/2022-06-08/
LOCATION:Online Meeting
CATEGORIES:YAF
ORGANIZER;CN="Maxwell Hodge":MAILTO:davidmaxhodge@gmail.com
END:VEVENT
BEGIN:VEVENT
DTSTART;TZID=America/New_York:20220606T193000
DTEND;TZID=America/New_York:20220606T203000
DTSTAMP:20260424T232325
CREATED:20220426T172819Z
LAST-MODIFIED:20220426T172845Z
UID:10000384-1654543800-1654547400@aiatriangle.org
SUMMARY:EP/YAF ARE 5.0 PDD Workshop
DESCRIPTION:EP/YAF ARE 5.0 PDD WORKSHOP \nOnline Meeting\n\nMay 9th – June 20th\n 7:30 PM\n\nJust starting your exams and not sure where to start? Having a hard time getting the PASS or keeping yourself motivated to study? Feeling overwhelmed by all the material?  Get your study on\, grab some fellow candidates\, and show up for a weekly study schedule\, riveting discussions\, and practice questions that will keep you going toward the finish line. The virtual workshop will run from May 9th through June 20th through Teams meeting.\n\nWant to join the workshop? \nEmail for more information and to receive weekly Teams meeting link\nEmail Sarah Lower or Colin McCarville
URL:https://aiatriangle.org/event/ep-yaf-are-5-0-pdd-workshop-3/
LOCATION:Online Meeting
CATEGORIES:YAF
ORGANIZER;CN="Sarah Lower":MAILTO:sarah.d.lower@gmail.com
END:VEVENT
BEGIN:VEVENT
DTSTART;TZID=America/New_York:20220601T183000
DTEND;TZID=America/New_York:20220601T190000
DTSTAMP:20260424T232325
CREATED:20211221T194641Z
LAST-MODIFIED:20220728T125718Z
UID:10000324-1654108200-1654110000@aiatriangle.org
SUMMARY:2022 ARE/AXP Study Group
DESCRIPTION:All are welcome to participate! \nCheck-in weekly to the Zoom meetings on Wednesdays at 6:30 PM \nJOIN US ON TEAMS HERE \nConnect on the Young and Aspiring Architects’ Facebook Page \nQuestions?  \nContact Max Hodge for more information
URL:https://aiatriangle.org/event/2022-are-axp-study-group/2022-06-01/
LOCATION:Online Meeting
CATEGORIES:YAF
ORGANIZER;CN="Maxwell Hodge":MAILTO:davidmaxhodge@gmail.com
END:VEVENT
BEGIN:VEVENT
DTSTART;TZID=America/New_York:20220525T183000
DTEND;TZID=America/New_York:20220525T190000
DTSTAMP:20260424T232325
CREATED:20211221T194641Z
LAST-MODIFIED:20220728T125718Z
UID:10000323-1653503400-1653505200@aiatriangle.org
SUMMARY:2022 ARE/AXP Study Group
DESCRIPTION:All are welcome to participate! \nCheck-in weekly to the Zoom meetings on Wednesdays at 6:30 PM \nJOIN US ON TEAMS HERE \nConnect on the Young and Aspiring Architects’ Facebook Page \nQuestions?  \nContact Max Hodge for more information
URL:https://aiatriangle.org/event/2022-are-axp-study-group/2022-05-25/
LOCATION:Online Meeting
CATEGORIES:YAF
ORGANIZER;CN="Maxwell Hodge":MAILTO:davidmaxhodge@gmail.com
END:VEVENT
BEGIN:VEVENT
DTSTART;TZID=America/New_York:20220523T193000
DTEND;TZID=America/New_York:20220523T203000
DTSTAMP:20260424T232325
CREATED:20220426T172420Z
LAST-MODIFIED:20220426T195743Z
UID:10000382-1653334200-1653337800@aiatriangle.org
SUMMARY:EP/YAF ARE 5.0 PDD Workshop
DESCRIPTION:EP/YAF ARE 5.0 PDD WORKSHOP \nOnline Meeting\n\nMay 9th – June 20th\n 7:30 PM\n\nJust starting your exams and not sure where to start? Having a hard time getting the PASS or keeping yourself motivated to study? Feeling overwhelmed by all the material?  Get your study on\, grab some fellow candidates\, and show up for a weekly study schedule\, riveting discussions\, and practice questions that will keep you going toward the finish line. The virtual workshop will run from May 9th through June 20th through Teams meeting.\n\nWant to join the workshop? \nEmail for more information and to receive weekly Teams meeting link\nEmail Sarah Lower or Colin McCarville
URL:https://aiatriangle.org/event/ep-yaf-are-5-0-pdd-workshop-2/
LOCATION:Online Meeting
CATEGORIES:YAF
ORGANIZER;CN="Sarah Lower":MAILTO:sarah.d.lower@gmail.com
END:VEVENT
BEGIN:VEVENT
DTSTART;TZID=America/New_York:20220518T183000
DTEND;TZID=America/New_York:20220518T190000
DTSTAMP:20260424T232325
CREATED:20211221T194641Z
LAST-MODIFIED:20220728T125718Z
UID:10000322-1652898600-1652900400@aiatriangle.org
SUMMARY:2022 ARE/AXP Study Group
DESCRIPTION:All are welcome to participate! \nCheck-in weekly to the Zoom meetings on Wednesdays at 6:30 PM \nJOIN US ON TEAMS HERE \nConnect on the Young and Aspiring Architects’ Facebook Page \nQuestions?  \nContact Max Hodge for more information
URL:https://aiatriangle.org/event/2022-are-axp-study-group/2022-05-18/
LOCATION:Online Meeting
CATEGORIES:YAF
ORGANIZER;CN="Maxwell Hodge":MAILTO:davidmaxhodge@gmail.com
END:VEVENT
BEGIN:VEVENT
DTSTART;TZID=America/New_York:20220516T193000
DTEND;TZID=America/New_York:20220516T203000
DTSTAMP:20260424T232325
CREATED:20220426T172120Z
LAST-MODIFIED:20220426T195832Z
UID:10000381-1652729400-1652733000@aiatriangle.org
SUMMARY:EP/YAF ARE 5.0 PDD Workshop
DESCRIPTION:EP/YAF ARE 5.0 PDD WORKSHOP \nOnline Meeting\n\nMay 9th – June 20th\n 7:30 PM\n\nJust starting your exams and not sure where to start? Having a hard time getting the PASS or keeping yourself motivated to study? Feeling overwhelmed by all the material?  Get your study on\, grab some fellow candidates\, and show up for a weekly study schedule\, riveting discussions\, and practice questions that will keep you going toward the finish line. The virtual workshop will run from May 9th through June 20th through Teams meeting.\n\nWant to join the workshop? \nEmail for more information and to receive weekly Teams meeting link\nEmail Sarah Lower or Colin McCarville
URL:https://aiatriangle.org/event/ep-yaf-are-5-0-pdd-workshop/
LOCATION:Online Meeting
CATEGORIES:YAF
ORGANIZER;CN="Sarah Lower":MAILTO:sarah.d.lower@gmail.com
END:VEVENT
BEGIN:VEVENT
DTSTART;TZID=America/New_York:20220511T183000
DTEND;TZID=America/New_York:20220511T190000
DTSTAMP:20260424T232325
CREATED:20211221T194641Z
LAST-MODIFIED:20220728T125718Z
UID:10000321-1652293800-1652295600@aiatriangle.org
SUMMARY:2022 ARE/AXP Study Group
DESCRIPTION:All are welcome to participate! \nCheck-in weekly to the Zoom meetings on Wednesdays at 6:30 PM \nJOIN US ON TEAMS HERE \nConnect on the Young and Aspiring Architects’ Facebook Page \nQuestions?  \nContact Max Hodge for more information
URL:https://aiatriangle.org/event/2022-are-axp-study-group/2022-05-11/
LOCATION:Online Meeting
CATEGORIES:YAF
ORGANIZER;CN="Maxwell Hodge":MAILTO:davidmaxhodge@gmail.com
END:VEVENT
BEGIN:VEVENT
DTSTART;TZID=America/New_York:20220509T193000
DTEND;TZID=America/New_York:20220509T203000
DTSTAMP:20260424T232325
CREATED:20220413T152659Z
LAST-MODIFIED:20220426T200221Z
UID:10000373-1652124600-1652128200@aiatriangle.org
SUMMARY:EP/YAF Informational Meeting - ARE 5.0 PDD Workshop
DESCRIPTION:INFORMATIONAL MEETING\nEP/YAF ARE 5.0 PDD 5-WEEK WORKSHOP\n\n\nMonday\, May 9th | 7:30 PM\n\nJust starting your exams and not sure where to start? Having a hard time getting the PASS or keeping yourself motivated to study? Feeling overwhelmed by all the material?  Get your study on\, grab some fellow candidates\, and show up for a weekly study schedule\, riveting discussions\, and practice questions that will keep you going toward the finish line. Attend the online informational meeting on May 9th to learn more! The virtual workshop will run from May 9th through June 20th. RSVP to receive email with link to online Teams meeting.\n\nQuestions?\nEmail Sarah Lower or Colin McCarville
URL:https://aiatriangle.org/event/ep-yaf-informational-meeting-are-5-0-pdd-workshop/
LOCATION:Online Meeting
CATEGORIES:YAF
ORGANIZER;CN="Colin McCarville":MAILTO:cpm616@gmail.com
END:VEVENT
BEGIN:VEVENT
DTSTART;TZID=America/New_York:20220504T183000
DTEND;TZID=America/New_York:20220504T190000
DTSTAMP:20260424T232325
CREATED:20211221T194641Z
LAST-MODIFIED:20220728T125718Z
UID:10000320-1651689000-1651690800@aiatriangle.org
SUMMARY:2022 ARE/AXP Study Group
DESCRIPTION:All are welcome to participate! \nCheck-in weekly to the Zoom meetings on Wednesdays at 6:30 PM \nJOIN US ON TEAMS HERE \nConnect on the Young and Aspiring Architects’ Facebook Page \nQuestions?  \nContact Max Hodge for more information
URL:https://aiatriangle.org/event/2022-are-axp-study-group/2022-05-04/
LOCATION:Online Meeting
CATEGORIES:YAF
ORGANIZER;CN="Maxwell Hodge":MAILTO:davidmaxhodge@gmail.com
END:VEVENT
BEGIN:VEVENT
DTSTART;TZID=America/New_York:20220427T183000
DTEND;TZID=America/New_York:20220427T190000
DTSTAMP:20260424T232325
CREATED:20211221T194641Z
LAST-MODIFIED:20220728T125718Z
UID:10000319-1651084200-1651086000@aiatriangle.org
SUMMARY:2022 ARE/AXP Study Group
DESCRIPTION:All are welcome to participate! \nCheck-in weekly to the Zoom meetings on Wednesdays at 6:30 PM \nJOIN US ON TEAMS HERE \nConnect on the Young and Aspiring Architects’ Facebook Page \nQuestions?  \nContact Max Hodge for more information
URL:https://aiatriangle.org/event/2022-are-axp-study-group/2022-04-27/
LOCATION:Online Meeting
CATEGORIES:YAF
ORGANIZER;CN="Maxwell Hodge":MAILTO:davidmaxhodge@gmail.com
END:VEVENT
BEGIN:VEVENT
DTSTART;TZID=America/New_York:20220420T183000
DTEND;TZID=America/New_York:20220420T190000
DTSTAMP:20260424T232325
CREATED:20211221T194641Z
LAST-MODIFIED:20220728T125718Z
UID:10000318-1650479400-1650481200@aiatriangle.org
SUMMARY:2022 ARE/AXP Study Group
DESCRIPTION:All are welcome to participate! \nCheck-in weekly to the Zoom meetings on Wednesdays at 6:30 PM \nJOIN US ON TEAMS HERE \nConnect on the Young and Aspiring Architects’ Facebook Page \nQuestions?  \nContact Max Hodge for more information
URL:https://aiatriangle.org/event/2022-are-axp-study-group/2022-04-20/
LOCATION:Online Meeting
CATEGORIES:YAF
ORGANIZER;CN="Maxwell Hodge":MAILTO:davidmaxhodge@gmail.com
END:VEVENT
BEGIN:VEVENT
DTSTART;TZID=America/New_York:20220413T183000
DTEND;TZID=America/New_York:20220413T190000
DTSTAMP:20260424T232325
CREATED:20211221T194641Z
LAST-MODIFIED:20220728T125718Z
UID:10000317-1649874600-1649876400@aiatriangle.org
SUMMARY:2022 ARE/AXP Study Group
DESCRIPTION:All are welcome to participate! \nCheck-in weekly to the Zoom meetings on Wednesdays at 6:30 PM \nJOIN US ON TEAMS HERE \nConnect on the Young and Aspiring Architects’ Facebook Page \nQuestions?  \nContact Max Hodge for more information
URL:https://aiatriangle.org/event/2022-are-axp-study-group/2022-04-13/
LOCATION:Online Meeting
CATEGORIES:YAF
ORGANIZER;CN="Maxwell Hodge":MAILTO:davidmaxhodge@gmail.com
END:VEVENT
BEGIN:VEVENT
DTSTART;TZID=America/New_York:20220406T183000
DTEND;TZID=America/New_York:20220406T190000
DTSTAMP:20260424T232325
CREATED:20211221T194641Z
LAST-MODIFIED:20220728T125718Z
UID:10000316-1649269800-1649271600@aiatriangle.org
SUMMARY:2022 ARE/AXP Study Group
DESCRIPTION:All are welcome to participate! \nCheck-in weekly to the Zoom meetings on Wednesdays at 6:30 PM \nJOIN US ON TEAMS HERE \nConnect on the Young and Aspiring Architects’ Facebook Page \nQuestions?  \nContact Max Hodge for more information
URL:https://aiatriangle.org/event/2022-are-axp-study-group/2022-04-06/
LOCATION:Online Meeting
CATEGORIES:YAF
ORGANIZER;CN="Maxwell Hodge":MAILTO:davidmaxhodge@gmail.com
END:VEVENT
BEGIN:VEVENT
DTSTART;TZID=America/New_York:20220404T120000
DTEND;TZID=America/New_York:20220404T130000
DTSTAMP:20260424T232325
CREATED:20211129T143443Z
LAST-MODIFIED:20220112T204705Z
UID:10000356-1649073600-1649077200@aiatriangle.org
SUMMARY:Virtual Joint Lecture - Anupama Kundoo
DESCRIPTION:2022 Spring Joint Lecture Series \nAnupama Kundoo \nTesar Endowed Lecture (Architecture & Culture) \nAnupama Kundoo Architects (Pune & Bodicherry & Berlin) \n\nMonday\, April 4\, 2022 | 12:00 pm \nCE credit pending approval \nOnline lecture via Zoom  \nor attend the Zoom watch party in Allred Library \nREGISTER FOR ZOOM MEETING HERE \nLectures are presented by NC State College of Design. Times and dates are subject to change. For meetings with the option of attending in-person\, masks are required – check here for up-to-date information on COVID protocols. View current lecture schedule for any updates HERE
URL:https://aiatriangle.org/event/virtual-joint-lecture-anupama-kundoo/
LOCATION:Online Meeting
CATEGORIES:Joint Lecture Series
ORGANIZER;CN="Shawn Protz":MAILTO:ssprotz@ncsu.edu
END:VEVENT
BEGIN:VEVENT
DTSTART;TZID=America/New_York:20220330T183000
DTEND;TZID=America/New_York:20220330T190000
DTSTAMP:20260424T232325
CREATED:20211221T194641Z
LAST-MODIFIED:20220728T125718Z
UID:10000315-1648665000-1648666800@aiatriangle.org
SUMMARY:2022 ARE/AXP Study Group
DESCRIPTION:All are welcome to participate! \nCheck-in weekly to the Zoom meetings on Wednesdays at 6:30 PM \nJOIN US ON TEAMS HERE \nConnect on the Young and Aspiring Architects’ Facebook Page \nQuestions?  \nContact Max Hodge for more information
URL:https://aiatriangle.org/event/2022-are-axp-study-group/2022-03-30/
LOCATION:Online Meeting
CATEGORIES:YAF
ORGANIZER;CN="Maxwell Hodge":MAILTO:davidmaxhodge@gmail.com
END:VEVENT
BEGIN:VEVENT
DTSTART;TZID=America/New_York:20220328T200000
DTEND;TZID=America/New_York:20220328T210000
DTSTAMP:20260424T232325
CREATED:20211129T142812Z
LAST-MODIFIED:20220112T204516Z
UID:10000279-1648497600-1648501200@aiatriangle.org
SUMMARY:Virtual Joint Lecture - Eleena Jamil
DESCRIPTION:2022 Spring Joint Lecture Series \nEleena Jamil \nTesar Endowed Lecture (Architecture & Culture) \nEleena Jamil Architect (Selangor\, Malaysia) \n\nMonday\, March 28\, 2022 | 8:00 pm \nCE credit pending approval \nOnline lecture via Zoom  \nor attend Zoom watch party in Allred Library \nREGISTER FOR ZOOM MEETING HERE \nLectures are presented by NC State College of Design. Times and dates are subject to change. For meetings with the option of attending in-person\, masks are required – check here for up-to-date information on COVID protocols. View current lecture schedule for any updates HERE
URL:https://aiatriangle.org/event/virtual-joint-lecture-eleena-jamil/
LOCATION:Online Meeting
CATEGORIES:Joint Lecture Series
ORGANIZER;CN="Shawn Protz":MAILTO:ssprotz@ncsu.edu
END:VEVENT
BEGIN:VEVENT
DTSTART;TZID=America/New_York:20220323T183000
DTEND;TZID=America/New_York:20220323T190000
DTSTAMP:20260424T232325
CREATED:20211221T194641Z
LAST-MODIFIED:20220728T125718Z
UID:10000314-1648060200-1648062000@aiatriangle.org
SUMMARY:2022 ARE/AXP Study Group
DESCRIPTION:All are welcome to participate! \nCheck-in weekly to the Zoom meetings on Wednesdays at 6:30 PM \nJOIN US ON TEAMS HERE \nConnect on the Young and Aspiring Architects’ Facebook Page \nQuestions?  \nContact Max Hodge for more information
URL:https://aiatriangle.org/event/2022-are-axp-study-group/2022-03-23/
LOCATION:Online Meeting
CATEGORIES:YAF
ORGANIZER;CN="Maxwell Hodge":MAILTO:davidmaxhodge@gmail.com
END:VEVENT
BEGIN:VEVENT
DTSTART;TZID=America/New_York:20220317T130000
DTEND;TZID=America/New_York:20220317T170000
DTSTAMP:20260424T232325
CREATED:20220303T151157Z
LAST-MODIFIED:20220303T163012Z
UID:10000420-1647522000-1647536400@aiatriangle.org
SUMMARY:BEC - Control Layer Fundamentals
DESCRIPTION:BEC Research Triangle Online Program \nControl Layer Fundamentals (1 LU/HSW credit) \nThursday\, March 17 | 12:00 pm \nREGISTER HERE \n\nJoin Building Enclosure Council Research Triangle for a presentation on the four major control layers of the building enclosure. Joseph Anetrella will explain the mechanisms of heat\, air\, bulk water and vapor and how they transport through building assemblies. This discussion will cover the importance of air barriers and continuous insulation as well as common installation challenges seen in the field. He will also present key strategies for achieving durable\, energy-efficient\, and thermally comfortable wall\, roof and below grade assemblies. \n\nUnderstand the mechanisms of heat\, air\, bulk water\, and vapor and how they transport through building assemblies.\nLearn the importance of air barriers and common challenges with their installation.\nLearn the benefits of continuous insulation and common challenges to achieving it in the field.\nUnderstand key strategies for achieving durable\, energy-efficient\, and thermally comfortable wall\, roof\, and below-grade assemblies.\n\n 
URL:https://aiatriangle.org/event/bec-control-layer-fundamentals/
LOCATION:Online Meeting
CATEGORIES:BEC Program/Event
END:VEVENT
BEGIN:VEVENT
DTSTART;TZID=America/New_York:20220316T183000
DTEND;TZID=America/New_York:20220316T190000
DTSTAMP:20260424T232325
CREATED:20211221T194641Z
LAST-MODIFIED:20220728T125718Z
UID:10000313-1647455400-1647457200@aiatriangle.org
SUMMARY:2022 ARE/AXP Study Group
DESCRIPTION:All are welcome to participate! \nCheck-in weekly to the Zoom meetings on Wednesdays at 6:30 PM \nJOIN US ON TEAMS HERE \nConnect on the Young and Aspiring Architects’ Facebook Page \nQuestions?  \nContact Max Hodge for more information
URL:https://aiatriangle.org/event/2022-are-axp-study-group/2022-03-16/
LOCATION:Online Meeting
CATEGORIES:YAF
ORGANIZER;CN="Maxwell Hodge":MAILTO:davidmaxhodge@gmail.com
END:VEVENT
BEGIN:VEVENT
DTSTART;TZID=America/New_York:20220309T183000
DTEND;TZID=America/New_York:20220309T190000
DTSTAMP:20260424T232325
CREATED:20211221T194641Z
LAST-MODIFIED:20220728T125718Z
UID:10000312-1646850600-1646852400@aiatriangle.org
SUMMARY:2022 ARE/AXP Study Group
DESCRIPTION:All are welcome to participate! \nCheck-in weekly to the Zoom meetings on Wednesdays at 6:30 PM \nJOIN US ON TEAMS HERE \nConnect on the Young and Aspiring Architects’ Facebook Page \nQuestions?  \nContact Max Hodge for more information
URL:https://aiatriangle.org/event/2022-are-axp-study-group/2022-03-09/
LOCATION:Online Meeting
CATEGORIES:YAF
ORGANIZER;CN="Maxwell Hodge":MAILTO:davidmaxhodge@gmail.com
END:VEVENT
END:VCALENDAR